Package: GenomicFeatures Version: 1.61.6 Command: /home/biocbuild/R/R/bin/R CMD build --keep-empty-dirs --no-resave-data GenomicFeatures StartedAt: 2025-10-20 23:59:15 -0000 (Mon, 20 Oct 2025) EndedAt: 2025-10-21 00:01:44 -0000 (Tue, 21 Oct 2025) EllapsedTime: 149.1 seconds RetCode: 0 Status: OK PackageFile: GenomicFeatures_1.61.6.tar.gz PackageFileSize: 583.7 KiB