Package: GenomicFeatures Version: 1.61.6 Command: /home/biocbuild/bbs-3.22-bioc/R/bin/R CMD check --install=check:GenomicFeatures.install-out.txt --library=/home/biocbuild/bbs-3.22-bioc/R/site-library --timings GenomicFeatures_1.61.6.tar.gz StartedAt: 2025-09-30 00:22:29 -0400 (Tue, 30 Sep 2025) EndedAt: 2025-09-30 00:31:33 -0400 (Tue, 30 Sep 2025) EllapsedTime: 543.5 seconds RetCode: 0 Status: OK CheckDir: GenomicFeatures.Rcheck Warnings: 0