Package: GenomicFeatures Version: 1.63.1 Command: /home/biocbuild/bbs-3.23-bioc/R/bin/R CMD INSTALL GenomicFeatures StartedAt: 2025-11-05 15:45:23 -0500 (Wed, 05 Nov 2025) EndedAt: 2025-11-05 15:46:00 -0500 (Wed, 05 Nov 2025) EllapsedTime: 36.9 seconds RetCode: 0 Status: OK