Package: GenomicFeatures Version: 1.63.1 Command: /home/biocbuild/bbs-3.23-bioc/R/bin/R CMD check --install=check:GenomicFeatures.install-out.txt --library=/home/biocbuild/bbs-3.23-bioc/R/site-library --timings GenomicFeatures_1.63.1.tar.gz StartedAt: 2025-11-06 23:39:10 -0500 (Thu, 06 Nov 2025) EndedAt: 2025-11-06 23:50:27 -0500 (Thu, 06 Nov 2025) EllapsedTime: 677.7 seconds RetCode: 0 Status: OK CheckDir: GenomicFeatures.Rcheck Warnings: 0