Package: GenomicFeatures Version: 1.63.1 Command: /home/biocbuild/bbs-3.23-bioc/R/bin/R CMD build --keep-empty-dirs --no-resave-data GenomicFeatures StartedAt: 2025-11-05 17:49:07 -0500 (Wed, 05 Nov 2025) EndedAt: 2025-11-05 17:51:04 -0500 (Wed, 05 Nov 2025) EllapsedTime: 117.1 seconds RetCode: 0 Status: OK PackageFile: GenomicFeatures_1.63.1.tar.gz PackageFileSize: 556.9 KiB