Package: GenomicDistributions Version: 1.19.0 Command: /home/biocbuild/bbs-3.23-bioc/R/bin/R CMD check --install=check:GenomicDistributions.install-out.txt --library=/home/biocbuild/bbs-3.23-bioc/R/site-library --timings GenomicDistributions_1.19.0.tar.gz StartedAt: 2025-11-05 23:49:09 -0500 (Wed, 05 Nov 2025) EndedAt: 2025-11-05 23:52:46 -0500 (Wed, 05 Nov 2025) EllapsedTime: 217.2 seconds RetCode: 0 Status: OK CheckDir: GenomicDistributions.Rcheck Warnings: 0