Package: GenomicDataCommons Version: 1.34.0 Command: /Library/Frameworks/R.framework/Resources/bin/R CMD check --install=check:GenomicDataCommons.install-out.txt --library=/Library/Frameworks/R.framework/Resources/library --no-vignettes --timings GenomicDataCommons_1.34.0.tar.gz StartedAt: 2025-10-30 02:20:09 -0400 (Thu, 30 Oct 2025) EndedAt: 2025-10-30 02:20:55 -0400 (Thu, 30 Oct 2025) EllapsedTime: 45.5 seconds RetCode: 1 Status: ERROR CheckDir: GenomicDataCommons.Rcheck Warnings: NA