Package: GenomicAlignments Version: 1.45.4 Command: /Library/Frameworks/R.framework/Resources/bin/R CMD check --install=check:GenomicAlignments.install-out.txt --library=/Library/Frameworks/R.framework/Resources/library --no-vignettes --timings GenomicAlignments_1.45.4.tar.gz StartedAt: 2025-10-24 19:55:05 -0400 (Fri, 24 Oct 2025) EndedAt: 2025-10-24 19:56:52 -0400 (Fri, 24 Oct 2025) EllapsedTime: 107.2 seconds RetCode: 0 Status: OK CheckDir: GenomicAlignments.Rcheck Warnings: 0