Package: GenomeInfoDb Version: 1.45.12 Command: /home/biocbuild/R/R/bin/R CMD build --keep-empty-dirs --no-resave-data GenomeInfoDb StartedAt: 2025-10-20 23:58:45 -0000 (Mon, 20 Oct 2025) EndedAt: 2025-10-20 23:59:20 -0000 (Mon, 20 Oct 2025) EllapsedTime: 35.0 seconds RetCode: 0 Status: OK PackageFile: GenomeInfoDb_1.45.12.tar.gz PackageFileSize: 3.489 MiB