Package: GenomeInfoDb Version: 1.45.12 Command: /home/biocbuild/bbs-3.22-bioc/R/bin/R CMD check --install=check:GenomeInfoDb.install-out.txt --library=/home/biocbuild/bbs-3.22-bioc/R/site-library --timings GenomeInfoDb_1.45.12.tar.gz StartedAt: 2025-10-15 00:13:02 -0400 (Wed, 15 Oct 2025) EndedAt: 2025-10-15 00:23:19 -0400 (Wed, 15 Oct 2025) EllapsedTime: 617.6 seconds RetCode: 0 Status: OK CheckDir: GenomeInfoDb.Rcheck Warnings: 0