Package: GenomeInfoDb Version: 1.47.0 Command: /home/biocbuild/bbs-3.23-bioc/R/bin/R CMD INSTALL GenomeInfoDb StartedAt: 2025-11-20 15:14:00 -0500 (Thu, 20 Nov 2025) EndedAt: 2025-11-20 15:14:09 -0500 (Thu, 20 Nov 2025) EllapsedTime: 9.6 seconds RetCode: 0 Status: OK