Package: GenomAutomorphism Version: 1.11.2 Command: /home/biocbuild/bbs-3.22-bioc/R/bin/R CMD check --install=check:GenomAutomorphism.install-out.txt --library=/home/biocbuild/bbs-3.22-bioc/R/site-library --timings GenomAutomorphism_1.11.2.tar.gz StartedAt: 2025-10-15 00:12:59 -0400 (Wed, 15 Oct 2025) EndedAt: 2025-10-15 00:17:12 -0400 (Wed, 15 Oct 2025) EllapsedTime: 253.2 seconds RetCode: 0 Status: OK CheckDir: GenomAutomorphism.Rcheck Warnings: 0