Package: GeneticsPed Version: 1.73.0 Command: /home/biocbuild/bbs-3.23-bioc/R/bin/R CMD INSTALL GeneticsPed StartedAt: 2025-11-20 15:04:19 -0500 (Thu, 20 Nov 2025) EndedAt: 2025-11-20 15:04:37 -0500 (Thu, 20 Nov 2025) EllapsedTime: 18.4 seconds RetCode: 0 Status: OK