Package: GeneticsPed Version: 1.73.0 Command: /home/biocbuild/bbs-3.23-bioc/R/bin/R CMD build --keep-empty-dirs --no-resave-data GeneticsPed StartedAt: 2025-11-20 17:45:49 -0500 (Thu, 20 Nov 2025) EndedAt: 2025-11-20 17:46:13 -0500 (Thu, 20 Nov 2025) EllapsedTime: 24.0 seconds RetCode: 0 Status: OK PackageFile: GeneticsPed_1.73.0.tar.gz PackageFileSize: 672.4 KiB