Package: GeneticsPed Version: 1.71.0 Command: /Library/Frameworks/R.framework/Resources/bin/R CMD INSTALL GeneticsPed StartedAt: 2025-10-28 15:09:10 -0400 (Tue, 28 Oct 2025) EndedAt: 2025-10-28 15:09:43 -0400 (Tue, 28 Oct 2025) EllapsedTime: 33.0 seconds RetCode: 0 Status: OK