Package: GeneticsPed Version: 1.71.0 Command: /Library/Frameworks/R.framework/Resources/bin/R CMD build --keep-empty-dirs --no-resave-data GeneticsPed StartedAt: 2025-10-28 17:06:54 -0400 (Tue, 28 Oct 2025) EndedAt: 2025-10-28 17:07:33 -0400 (Tue, 28 Oct 2025) EllapsedTime: 38.9 seconds RetCode: 0 Status: OK PackageFile: GeneticsPed_1.71.0.tar.gz PackageFileSize: 670.2 KiB