Package: GeneticsPed Version: 1.71.0 Command: rm -rf GeneticsPed.buildbin-libdir && mkdir GeneticsPed.buildbin-libdir && /Users/biocbuild/BBS/utils/build-universal.sh GeneticsPed_1.71.0.tar.gz /Library/Frameworks/R.framework/Resources/bin/R GeneticsPed.buildbin-libdir StartedAt: 2025-10-29 01:36:29 -0400 (Wed, 29 Oct 2025) EndedAt: 2025-10-29 01:36:52 -0400 (Wed, 29 Oct 2025) EllapsedTime: 23.2 seconds RetCode: 0 Status: OK PackageFile: GeneticsPed_1.71.0.tgz PackageFileSize: 827.2 KiB