Package: GeneticsPed Version: 1.71.0 Command: /Library/Frameworks/R.framework/Resources/bin/R CMD INSTALL GeneticsPed StartedAt: 2025-10-06 15:03:00 -0400 (Mon, 06 Oct 2025) EndedAt: 2025-10-06 15:03:08 -0400 (Mon, 06 Oct 2025) EllapsedTime: 8.7 seconds RetCode: 0 Status: OK