Package: GeneticsPed Version: 1.71.0 Command: /Library/Frameworks/R.framework/Resources/bin/R CMD build --keep-empty-dirs --no-resave-data GeneticsPed StartedAt: 2025-10-06 16:29:51 -0400 (Mon, 06 Oct 2025) EndedAt: 2025-10-06 16:30:04 -0400 (Mon, 06 Oct 2025) EllapsedTime: 13.2 seconds RetCode: 0 Status: OK PackageFile: GeneticsPed_1.71.0.tar.gz PackageFileSize: 670.9 KiB