Package: GeneTonic Version: 3.5.0 Command: /home/biocbuild/bbs-3.23-bioc/R/bin/R CMD INSTALL GeneTonic StartedAt: 2025-11-21 15:49:47 -0500 (Fri, 21 Nov 2025) EndedAt: 2025-11-21 15:50:42 -0500 (Fri, 21 Nov 2025) EllapsedTime: 54.5 seconds RetCode: 0 Status: OK