Package: GeneTonic Version: 3.5.0 Command: /home/biocbuild/bbs-3.23-bioc/R/bin/R CMD build --keep-empty-dirs --no-resave-data GeneTonic StartedAt: 2025-11-21 17:45:12 -0500 (Fri, 21 Nov 2025) EndedAt: 2025-11-21 17:47:11 -0500 (Fri, 21 Nov 2025) EllapsedTime: 119.1 seconds RetCode: 0 Status: OK PackageFile: GeneTonic_3.5.0.tar.gz PackageFileSize: 9.589 MiB