Package: GeneTonic Version: 3.5.0 Command: /Library/Frameworks/R.framework/Resources/bin/R CMD INSTALL GeneTonic StartedAt: 2025-11-14 15:25:30 -0500 (Fri, 14 Nov 2025) EndedAt: 2025-11-14 15:25:51 -0500 (Fri, 14 Nov 2025) EllapsedTime: 21.2 seconds RetCode: 0 Status: OK