Package: GeneTonic Version: 3.5.0 Command: /Library/Frameworks/R.framework/Resources/bin/R CMD build --keep-empty-dirs --no-resave-data GeneTonic StartedAt: 2025-11-16 16:26:30 -0500 (Sun, 16 Nov 2025) EndedAt: 2025-11-16 16:27:18 -0500 (Sun, 16 Nov 2025) EllapsedTime: 47.6 seconds RetCode: 0 Status: OK PackageFile: GeneTonic_3.5.0.tar.gz PackageFileSize: 9.861 MiB