Package: GeneTonic Version: 3.5.0 Command: rm -rf GeneTonic.buildbin-libdir && mkdir GeneTonic.buildbin-libdir && /Users/biocbuild/BBS/utils/build-universal.sh GeneTonic_3.5.0.tar.gz /Library/Frameworks/R.framework/Resources/bin/R GeneTonic.buildbin-libdir StartedAt: 2025-11-16 23:35:23 -0500 (Sun, 16 Nov 2025) EndedAt: 2025-11-16 23:35:49 -0500 (Sun, 16 Nov 2025) EllapsedTime: 26.6 seconds RetCode: 0 Status: OK PackageFile: GeneTonic_3.5.0.tgz PackageFileSize: 9.985 MiB