Package: GeneStructureTools Version: 1.31.0 Command: /home/biocbuild/bbs-3.23-bioc/R/bin/R CMD INSTALL GeneStructureTools StartedAt: 2025-11-03 15:52:39 -0500 (Mon, 03 Nov 2025) EndedAt: 2025-11-03 15:53:30 -0500 (Mon, 03 Nov 2025) EllapsedTime: 50.7 seconds RetCode: 0 Status: OK