Package: GeneStructureTools Version: 1.31.0 Command: /home/biocbuild/bbs-3.23-bioc/R/bin/R CMD check --install=check:GeneStructureTools.install-out.txt --library=/home/biocbuild/bbs-3.23-bioc/R/site-library --timings GeneStructureTools_1.31.0.tar.gz StartedAt: 2025-11-04 23:39:18 -0500 (Tue, 04 Nov 2025) EndedAt: 2025-11-04 23:47:44 -0500 (Tue, 04 Nov 2025) EllapsedTime: 506.6 seconds RetCode: 0 Status: OK CheckDir: GeneStructureTools.Rcheck Warnings: 0