Package: GeneStructureTools Version: 1.31.0 Command: /home/biocbuild/bbs-3.23-bioc/R/bin/R CMD build --keep-empty-dirs --no-resave-data GeneStructureTools StartedAt: 2025-11-03 17:40:02 -0500 (Mon, 03 Nov 2025) EndedAt: 2025-11-03 17:42:32 -0500 (Mon, 03 Nov 2025) EllapsedTime: 150.2 seconds RetCode: 0 Status: OK PackageFile: GeneStructureTools_1.31.0.tar.gz PackageFileSize: 2.822 MiB