Package: GeneStructureTools Version: 1.29.0 Command: /Library/Frameworks/R.framework/Resources/bin/R CMD check --install=check:GeneStructureTools.install-out.txt --library=/Library/Frameworks/R.framework/Resources/library --no-vignettes --timings GeneStructureTools_1.29.0.tar.gz StartedAt: 2025-10-09 19:38:23 -0400 (Thu, 09 Oct 2025) EndedAt: 2025-10-09 19:40:53 -0400 (Thu, 09 Oct 2025) EllapsedTime: 149.8 seconds RetCode: 0 Status: OK CheckDir: GeneStructureTools.Rcheck Warnings: 0