Package: GeneSelectMMD Version: 2.53.0 Command: /Library/Frameworks/R.framework/Resources/bin/R CMD INSTALL GeneSelectMMD StartedAt: 2025-10-05 15:14:36 -0400 (Sun, 05 Oct 2025) EndedAt: 2025-10-05 15:14:57 -0400 (Sun, 05 Oct 2025) EllapsedTime: 21.3 seconds RetCode: 0 Status: OK