Package: GeneSelectMMD Version: 2.53.0 Command: /Library/Frameworks/R.framework/Resources/bin/R CMD build --keep-empty-dirs --no-resave-data GeneSelectMMD StartedAt: 2025-10-05 17:08:06 -0400 (Sun, 05 Oct 2025) EndedAt: 2025-10-05 17:08:29 -0400 (Sun, 05 Oct 2025) EllapsedTime: 22.9 seconds RetCode: 0 Status: OK PackageFile: GeneSelectMMD_2.53.0.tar.gz PackageFileSize: 454.2 KiB