Package: GeneSelectMMD Version: 2.53.0 Command: rm -rf GeneSelectMMD.buildbin-libdir && mkdir GeneSelectMMD.buildbin-libdir && /Users/biocbuild/BBS/utils/build-universal.sh GeneSelectMMD_2.53.0.tar.gz /Library/Frameworks/R.framework/Resources/bin/R GeneSelectMMD.buildbin-libdir StartedAt: 2025-10-06 02:02:12 -0400 (Mon, 06 Oct 2025) EndedAt: 2025-10-06 02:02:31 -0400 (Mon, 06 Oct 2025) EllapsedTime: 19.7 seconds RetCode: 0 Status: OK PackageFile: GeneSelectMMD_2.53.0.tgz PackageFileSize: 551.6 KiB