Package: GeneRegionScan Version: 1.65.0 Command: /Library/Frameworks/R.framework/Resources/bin/R CMD build --keep-empty-dirs --no-resave-data GeneRegionScan StartedAt: 2025-10-06 17:08:43 -0400 (Mon, 06 Oct 2025) EndedAt: 2025-10-06 17:09:29 -0400 (Mon, 06 Oct 2025) EllapsedTime: 45.8 seconds RetCode: 0 Status: OK PackageFile: GeneRegionScan_1.65.0.tar.gz PackageFileSize: 7.481 MiB