Package: GeneRegionScan Version: 1.65.0 Maintainer: Lasse Folkersen MaintainerEmail: lasfol at cbs.dtu.dk git_url: https://git.bioconductor.org/packages/GeneRegionScan git_branch: devel git_last_commit: e260a55 git_last_commit_date: 2025-04-15 09:44:38 -0400 (Tue, 15 Apr 2025)