Package: GeneOverlap Version: 1.47.0 Command: /home/biocbuild/bbs-3.23-bioc/R/bin/R CMD INSTALL GeneOverlap StartedAt: 2025-11-20 15:03:57 -0500 (Thu, 20 Nov 2025) EndedAt: 2025-11-20 15:04:17 -0500 (Thu, 20 Nov 2025) EllapsedTime: 20.6 seconds RetCode: 0 Status: OK