Package: GeneOverlap Version: 1.47.0 Command: /home/biocbuild/bbs-3.23-bioc/R/bin/R CMD build --keep-empty-dirs --no-resave-data GeneOverlap StartedAt: 2025-11-20 17:44:58 -0500 (Thu, 20 Nov 2025) EndedAt: 2025-11-20 17:45:06 -0500 (Thu, 20 Nov 2025) EllapsedTime: 8.0 seconds RetCode: 0 Status: OK PackageFile: GeneOverlap_1.47.0.tar.gz PackageFileSize: 360.5 KiB