Package: GeneOverlap Version: 1.45.0 Command: /Library/Frameworks/R.framework/Resources/bin/R CMD INSTALL GeneOverlap StartedAt: 2025-10-24 15:14:32 -0400 (Fri, 24 Oct 2025) EndedAt: 2025-10-24 15:15:12 -0400 (Fri, 24 Oct 2025) EllapsedTime: 39.6 seconds RetCode: 0 Status: OK