Package: GeneOverlap Version: 1.45.0 Command: /Library/Frameworks/R.framework/Resources/bin/R CMD build --keep-empty-dirs --no-resave-data GeneOverlap StartedAt: 2025-10-24 17:11:03 -0400 (Fri, 24 Oct 2025) EndedAt: 2025-10-24 17:11:21 -0400 (Fri, 24 Oct 2025) EllapsedTime: 18.3 seconds RetCode: 0 Status: OK PackageFile: GeneOverlap_1.45.0.tar.gz PackageFileSize: 360.2 KiB