Package: GeneOverlap Version: 1.45.0 Command: /Library/Frameworks/R.framework/Resources/bin/R CMD INSTALL GeneOverlap StartedAt: 2025-10-05 15:02:50 -0400 (Sun, 05 Oct 2025) EndedAt: 2025-10-05 15:02:58 -0400 (Sun, 05 Oct 2025) EllapsedTime: 8.4 seconds RetCode: 0 Status: OK