Package: GeneOverlap Version: 1.45.0 Command: /Library/Frameworks/R.framework/Resources/bin/R CMD build --keep-empty-dirs --no-resave-data GeneOverlap StartedAt: 2025-10-05 16:30:31 -0400 (Sun, 05 Oct 2025) EndedAt: 2025-10-05 16:30:36 -0400 (Sun, 05 Oct 2025) EllapsedTime: 5.1 seconds RetCode: 0 Status: OK PackageFile: GeneOverlap_1.45.0.tar.gz PackageFileSize: 360.4 KiB