Package: GeneNetworkBuilder Version: 1.53.0 Command: /home/biocbuild/bbs-3.23-bioc/R/bin/R CMD INSTALL GeneNetworkBuilder StartedAt: 2025-11-20 15:14:26 -0500 (Thu, 20 Nov 2025) EndedAt: 2025-11-20 15:14:43 -0500 (Thu, 20 Nov 2025) EllapsedTime: 16.9 seconds RetCode: 0 Status: OK