Package: GeneNetworkBuilder Version: 1.53.0 Command: /home/biocbuild/bbs-3.23-bioc/R/bin/R CMD build --keep-empty-dirs --no-resave-data GeneNetworkBuilder StartedAt: 2025-11-20 17:44:40 -0500 (Thu, 20 Nov 2025) EndedAt: 2025-11-20 17:53:51 -0500 (Thu, 20 Nov 2025) EllapsedTime: 550.5 seconds RetCode: 0 Status: OK PackageFile: GeneNetworkBuilder_1.53.0.tar.gz PackageFileSize: 7.376 MiB