Package: GeneNetworkBuilder Version: 1.51.0 Command: /Library/Frameworks/R.framework/Resources/bin/R CMD INSTALL GeneNetworkBuilder StartedAt: 2025-10-24 15:30:45 -0400 (Fri, 24 Oct 2025) EndedAt: 2025-10-24 15:31:08 -0400 (Fri, 24 Oct 2025) EllapsedTime: 22.9 seconds RetCode: 0 Status: OK