Package: GeneNetworkBuilder Version: 1.51.0 Command: /Library/Frameworks/R.framework/Resources/bin/R CMD build --keep-empty-dirs --no-resave-data GeneNetworkBuilder StartedAt: 2025-10-24 17:10:58 -0400 (Fri, 24 Oct 2025) EndedAt: 2025-10-24 17:17:55 -0400 (Fri, 24 Oct 2025) EllapsedTime: 416.5 seconds RetCode: 0 Status: OK PackageFile: GeneNetworkBuilder_1.51.0.tar.gz PackageFileSize: 7.39 MiB