Package: GeneNetworkBuilder Version: 1.51.0 Command: rm -rf GeneNetworkBuilder.buildbin-libdir && mkdir GeneNetworkBuilder.buildbin-libdir && /Users/biocbuild/BBS/utils/build-universal.sh GeneNetworkBuilder_1.51.0.tar.gz /Library/Frameworks/R.framework/Resources/bin/R GeneNetworkBuilder.buildbin-libdir StartedAt: 2025-10-25 01:41:39 -0400 (Sat, 25 Oct 2025) EndedAt: 2025-10-25 01:42:11 -0400 (Sat, 25 Oct 2025) EllapsedTime: 31.4 seconds RetCode: 0 Status: OK PackageFile: GeneNetworkBuilder_1.51.0.tgz PackageFileSize: 7.275 MiB