Package: GeneNetworkBuilder Version: 1.51.0 Command: /Library/Frameworks/R.framework/Resources/bin/R CMD INSTALL GeneNetworkBuilder StartedAt: 2025-10-03 15:08:38 -0400 (Fri, 03 Oct 2025) EndedAt: 2025-10-03 15:08:45 -0400 (Fri, 03 Oct 2025) EllapsedTime: 6.8 seconds RetCode: 0 Status: OK