Package: GeneNetworkBuilder Version: 1.51.0 Command: /Library/Frameworks/R.framework/Resources/bin/R CMD build --keep-empty-dirs --no-resave-data GeneNetworkBuilder StartedAt: 2025-10-03 16:28:30 -0400 (Fri, 03 Oct 2025) EndedAt: 2025-10-03 16:32:07 -0400 (Fri, 03 Oct 2025) EllapsedTime: 216.2 seconds RetCode: 0 Status: OK PackageFile: GeneNetworkBuilder_1.51.0.tar.gz PackageFileSize: 7.391 MiB