Package: GeneNetworkBuilder Version: 1.51.0 Command: rm -rf GeneNetworkBuilder.buildbin-libdir && mkdir GeneNetworkBuilder.buildbin-libdir && /Users/biocbuild/BBS/utils/build-universal.sh GeneNetworkBuilder_1.51.0.tar.gz /Library/Frameworks/R.framework/Resources/bin/R GeneNetworkBuilder.buildbin-libdir StartedAt: 2025-10-03 22:40:24 -0400 (Fri, 03 Oct 2025) EndedAt: 2025-10-03 22:40:32 -0400 (Fri, 03 Oct 2025) EllapsedTime: 8.2 seconds RetCode: 0 Status: OK PackageFile: GeneNetworkBuilder_1.51.0.tgz PackageFileSize: 7.275 MiB