Package: GeneMeta Version: 1.83.0 Command: /home/biocbuild/bbs-3.23-bioc/R/bin/R CMD build --keep-empty-dirs --no-resave-data GeneMeta StartedAt: 2025-11-20 17:44:30 -0500 (Thu, 20 Nov 2025) EndedAt: 2025-11-20 17:45:03 -0500 (Thu, 20 Nov 2025) EllapsedTime: 33.0 seconds RetCode: 0 Status: OK PackageFile: GeneMeta_1.83.0.tar.gz PackageFileSize: 2.704 MiB