Package: GeneMeta Version: 1.81.0 Command: /Library/Frameworks/R.framework/Resources/bin/R CMD build --keep-empty-dirs --no-resave-data GeneMeta StartedAt: 2025-10-24 17:10:57 -0400 (Fri, 24 Oct 2025) EndedAt: 2025-10-24 17:11:42 -0400 (Fri, 24 Oct 2025) EllapsedTime: 44.7 seconds RetCode: 0 Status: OK PackageFile: GeneMeta_1.81.0.tar.gz PackageFileSize: 2.703 MiB