Package: GeneMeta Version: 1.81.0 Command: /Library/Frameworks/R.framework/Resources/bin/R CMD INSTALL GeneMeta StartedAt: 2025-10-16 15:22:05 -0400 (Thu, 16 Oct 2025) EndedAt: 2025-10-16 15:22:12 -0400 (Thu, 16 Oct 2025) EllapsedTime: 7.1 seconds RetCode: 0 Status: OK